OziExplorer Map Data File Version 2.2
yahoomap17_38x35_ba.jpg
K:\mapy\software\googleak\ozi\YahooMap17_38x35_BA.jpg
1 ,Map Code,
WGS 84,WGS 84, 0.0000, 0.0000,WGS 84
Reserved 1
Reserved 2
Magnetic Variation,,,E
Map Projection,Mercator,PolyCal,No,AutoCalOnly,No,BSBUseWPX,No
Point01,xy,0,0,in, deg, 48,13.2607746154001,N,17,1.0693359375,E, grid, , , ,N
Point02,xy,9728,0,in, deg, 48,13.2607746154001,N,17,13.59375,E, grid, , , ,N
Point03,xy,9728,8960,in, deg, 48,5.56542961964155,N,17,13.59375,E, grid, , , ,N
Point04,xy,0,8960,in, deg, 48,5.56542961964155,N,17,1.0693359375,E, grid, , , ,N
Point05,xy, , ,in, deg, , ,, , ,, grid, , , ,
Point06,xy, , ,in, deg, , ,, , ,, grid, , , ,
Point07,xy, , ,in, deg, , ,, , ,, grid, , , ,
Point08,xy, , ,in, deg, , ,, , ,, grid, , , ,
Point09,xy, , ,in, deg, , ,, , ,, grid, , , ,
Point10,xy, , ,in, deg, , ,, , ,, grid, , , ,
Point11,xy, , ,in, deg, , ,, , ,, grid, , , ,
Point12,xy, , ,in, deg, , ,, , ,, grid, , , ,
Point13,xy, , ,in, deg, , ,, , ,, grid, , , ,
Point14,xy, , ,in, deg, , ,, , ,, grid, , , ,
Point15,xy, , ,in, deg, , ,, , ,, grid, , , ,
Point16,xy, , ,in, deg, , ,, , ,, grid, , , ,
Point17,xy, , ,in, deg, , ,, , ,, grid, , , ,
Point18,xy, , ,in, deg, , ,, , ,, grid, , , ,
Point19,xy, , ,in, deg, , ,, , ,, grid, , , ,
Point20,xy, , ,in, deg, , ,, , ,, grid, , , ,
Point21,xy, , ,in, deg, , ,, , ,, grid, , , ,
Point22,xy, , ,in, deg, , ,, , ,, grid, , , ,
Point23,xy, , ,in, deg, , ,, , ,, grid, , , ,
Point24,xy, , ,in, deg, , ,, , ,, grid, , , ,
Point25,xy, , ,in, deg, , ,, , ,, grid, , , ,
Projection Setup,,,,,,,,,,
Map Feature = MF ; Map Comment = MC These follow if they exist
Track File = TF These follow if they exist
Moving Map Parameters = MM? These follow if they exist
MM0,Yes
MMPNUM,4
MMPXY,1,0,0
MMPXY,2,9728,0
MMPXY,3,9728,8960
MMPXY,4,0,8960
MMPLL,1, 17.017822265625, 48.2210129102567
MMPLL,2, 17.2265625, 48.2210129102567
MMPLL,3, 17.2265625, 48.0927571603274
MMPLL,4, 17.017822265625, 48.0927571603274
MOP,Map Open Position,0,0
IWH,Map Image Width/Height,9728,8960
